BEGIN:VCALENDAR
VERSION:2.0
PRODID:-//Alabama Defense Lawyers Association - ECPv6.15.20//NONSGML v1.0//EN
CALSCALE:GREGORIAN
METHOD:PUBLISH
X-WR-CALNAME:Alabama Defense Lawyers Association
X-ORIGINAL-URL:https://adla.org
X-WR-CALDESC:Events for Alabama Defense Lawyers Association
REFRESH-INTERVAL;VALUE=DURATION:PT1H
X-Robots-Tag:noindex
X-PUBLISHED-TTL:PT1H
BEGIN:VTIMEZONE
TZID:America/Chicago
BEGIN:DAYLIGHT
TZOFFSETFROM:-0600
TZOFFSETTO:-0500
TZNAME:CDT
DTSTART:20250309T080000
END:DAYLIGHT
BEGIN:STANDARD
TZOFFSETFROM:-0500
TZOFFSETTO:-0600
TZNAME:CST
DTSTART:20251102T070000
END:STANDARD
BEGIN:DAYLIGHT
TZOFFSETFROM:-0600
TZOFFSETTO:-0500
TZNAME:CDT
DTSTART:20260308T080000
END:DAYLIGHT
BEGIN:STANDARD
TZOFFSETFROM:-0500
TZOFFSETTO:-0600
TZNAME:CST
DTSTART:20261101T070000
END:STANDARD
BEGIN:DAYLIGHT
TZOFFSETFROM:-0600
TZOFFSETTO:-0500
TZNAME:CDT
DTSTART:20270314T080000
END:DAYLIGHT
BEGIN:STANDARD
TZOFFSETFROM:-0500
TZOFFSETTO:-0600
TZNAME:CST
DTSTART:20271107T070000
END:STANDARD
BEGIN:DAYLIGHT
TZOFFSETFROM:-0600
TZOFFSETTO:-0500
TZNAME:CDT
DTSTART:20280312T080000
END:DAYLIGHT
BEGIN:STANDARD
TZOFFSETFROM:-0500
TZOFFSETTO:-0600
TZNAME:CST
DTSTART:20281105T070000
END:STANDARD
BEGIN:DAYLIGHT
TZOFFSETFROM:-0600
TZOFFSETTO:-0500
TZNAME:CDT
DTSTART:20290311T080000
END:DAYLIGHT
BEGIN:STANDARD
TZOFFSETFROM:-0500
TZOFFSETTO:-0600
TZNAME:CST
DTSTART:20291104T070000
END:STANDARD
BEGIN:DAYLIGHT
TZOFFSETFROM:-0600
TZOFFSETTO:-0500
TZNAME:CDT
DTSTART:20300310T080000
END:DAYLIGHT
BEGIN:STANDARD
TZOFFSETFROM:-0500
TZOFFSETTO:-0600
TZNAME:CST
DTSTART:20301103T070000
END:STANDARD
END:VTIMEZONE
BEGIN:VEVENT
DTSTART;TZID=America/Chicago:20260423T170000
DTEND;TZID=America/Chicago:20260423T180000
DTSTAMP:20260422T044804
CREATED:20260306T152607Z
LAST-MODIFIED:20260406T154130Z
UID:10000183-1776963600-1776967200@adla.org
SUMMARY:District 1 Networking Mixer @ Del Chuco Underground
DESCRIPTION:You’re invited to Del Chuco Underground in Huntsville.\nThursday\, April 23 | 5:00-6:00 PM \nAll ADLA members are invited | Free networking event \nKindly RSVP so we can plan accordingly.
URL:https://adla.org/event/district-1-networking-mixer-del-chuco-underground/
ATTACH;FMTTYPE=image/jpeg:https://adla.org/wp-content/uploads/shutterstock_2252275815.jpg
END:VEVENT
BEGIN:VEVENT
DTSTART;TZID=America/Chicago:20260430T113000
DTEND;TZID=America/Chicago:20260430T123000
DTSTAMP:20260422T044804
CREATED:20260210T162749Z
LAST-MODIFIED:20260210T172914Z
UID:10000176-1777548600-1777552200@adla.org
SUMMARY:Live CLE Webinar: Legal Malpractice Insurance Basics & Common Misconceptions
DESCRIPTION:Webinar Sponsored by: \n \nFree for ADLA Members \n11:30 am – 12:30 pm Central Time \nIf you use Outlook Calendar\, please double-check that the event is saved in Central Standard Time (CST) to avoid any scheduling confusion. \nSpeaker: Ben Parks\, Esq.\nAIM Vice President- Underwriting \nBrief Course Description: \nOver his 21+ years underwriting lawyers malpractice insurance\, Ben has heard a familiar request time and time again: “I don’t know the first thing about this type of insurance\, please fill me in.” In this session\, he will:  \n\nDiscuss the basics of legal malpractice insurance; \nDispel some of the common misconceptions about the coverage to help you be a better purchaser of the coverage; and \nHelp you have a better understanding of the coverage before problems arise and you need to use it. \n\nBen Parks is a graduate of Mercer University and Mercer University School of Law. He has been a member of the State Bar of Georgia since 2003. After a stint in private practice\, he began his career helping lawyers protect their practices against allegations of malpractice and bar complaints.  \nHe started at the former Georgia bar related insurance company (Georgia Lawyers Insurance Company) and throughout his career\, he has served in various underwriting\, claims and business development roles.  \nThis course or a portion thereof has been approved by the Mandatory Continuing Legal Education Commission of Alabama for a maximum of 1 hours’ credit. 
URL:https://adla.org/event/live-cle-webinar-legal-malpractice-insurance-basics-common-misconceptions/
ATTACH;FMTTYPE=image/jpeg:https://adla.org/wp-content/uploads/shutterstock_2676056463.jpg
END:VEVENT
BEGIN:VEVENT
DTSTART;TZID=America/Chicago:20260512T120000
DTEND;TZID=America/Chicago:20260512T130000
DTSTAMP:20260422T044804
CREATED:20260414T141729Z
LAST-MODIFIED:20260414T141729Z
UID:10000186-1778587200-1778590800@adla.org
SUMMARY:Women’s Advancement Program Series: Catching Up-Round Tabling Current Litigation Trends and Strategies to Respond
DESCRIPTION:**If you would like to attend the event virtually\, please send an email to adla@adla.org to request Zoom login information. In order to receive CLE credit\, click the button above and register for the event. \nADLA Women in the Law (WITL) is excited to continue our Women’s Advancement Program\, a quarterly CLE series designed to support the advancement of female lawyers through mentorship and collaboration. These sessions bring women in the legal industry together to explore meaningful topics and foster organic\, impactful conversations. \nUp Next:  Catching Up- Round Tabling Current Litigation Trends and Strategies to Respond \nJoin us for our next session\, where we will focus on what lawyers are seeing across litigation and on effective strategies to move the ball forward. \nWe’re so grateful to Webster Henry in Birmingham for generously hosting this event and providing a wonderful space for good company and conversation over lunch. This FREE event is for ADLA members\, is limited to 20 in-person attendees\, and includes a complimentary lunch for those attending in person. If you have food allergies or diet restrictions\, please email adla@adla.org.  \nThis course or a portion thereof has been approved by the Mandatory Continuing Legal Education Commission of Alabama for a maximum of 1 hours’ credit.
URL:https://adla.org/event/womens-advancement-program-series-catching-up-round-tabling-current-litigation-trends-and-strategies-to-respond/
ATTACH;FMTTYPE=image/jpeg:https://adla.org/wp-content/uploads/Lady-Justice-Scales-Upward.jpg
END:VEVENT
BEGIN:VEVENT
DTSTART;VALUE=DATE:20260618
DTEND;VALUE=DATE:20260622
DTSTAMP:20260422T044804
CREATED:20221108T164538Z
LAST-MODIFIED:20260416T161407Z
UID:10000100-1781740800-1782086399@adla.org
SUMMARY:2026 Annual Meeting- Perdido Beach Resort
DESCRIPTION:ADLA’s 61st Annual Meeting is set for June 18-21 at Perdido Beach Resort\, located in Orange Beach\, AL. \n2026 Annual Meeting Brochure \nImportant Hotel Reservation Update – Please Read\nNew and exciting changes are underway at the Perdido Beach Resort as the property begins its transition to the Marriott brand. As part of this new chapter\, the hotel reservation process has been updated. \nAll attendees should reserve rooms online through the booking link rather than calling the Perdido Beach Resort reservations department directly. Online booking is available only for reservations within the official conference dates. If you would like to extend your stay before or after the conference\, you will need to contact Marriott Reservations directly to make those arrangements. Additional nights are subject to availability\, and rates may vary for pre- and post-conference stays. \n(Note: Any guests who booked prior to 4/16/26 have already been migrated to the new system and do not need to re-book). \nMarriott Reservations: 800-634-8001: Select Option 1 for room reservations\, then press 1 again to be connected to the Marriott call center.  \nIf you experience any issues with booking your preferred nights\, please email jhayes@adla.org for assistance. We apologize for the inconvenience and sincerely appreciate your patience during this transition. \nReserve Early – Limited Availability\nADLA’s discounted room block at the Perdido Beach Resort closes May 19 and is subject to availability. The resort is expected to sell out before the cutoff date\, so we strongly encourage you to reserve your room as soon as possible. \nRates start at $309 per night. \n We also kindly ask all participants to book within ADLA’s contracted room block and stay on property whenever possible. Meeting our room commitment helps the association avoid penalties\, control conference costs\, and enhance the overall Annual Meeting experience for everyone. \nSecure your spot today and make plans to join us on the coast for one of ADLA’s premier events of the year!
URL:https://adla.org/event/2026-annual-meeting-perdido-beach-resort/
ATTACH;FMTTYPE=image/jpeg:https://adla.org/wp-content/uploads/PBR-Photo.jpg
END:VEVENT
BEGIN:VEVENT
DTSTART;VALUE=DATE:20260730
DTEND;VALUE=DATE:20260801
DTSTAMP:20260422T044804
CREATED:20260326T143839Z
LAST-MODIFIED:20260414T183534Z
UID:10000185-1785369600-1785542399@adla.org
SUMMARY:Bibb Allen Memorial Trial Academy
DESCRIPTION:Limited space is available! Agenda coming soon. \nNew this year\, the program will be held at the Hugo L. Black United States Courthouse in Birmingham. \nThis immersive program is designed to help newer associates become trial-ready while also sharpening the skills of attorneys who haven’t been in the courtroom recently. \nIn addition to an updated format\, the program will feature the return of voir dire and introduce the use of technology in the courtroom. On Thursday\, participants will learn from some of Alabama’s top civil defense trial attorneys as they present on key trial skills. On Friday\, participants will put those skills into practice by presenting their case from start to finish in a simulated trial setting. \nWe kindly ask that you dress in professional courtroom attire for both days\, as participants will be in an actual courtroom setting. \nThis course or a portion thereof has been approved by the Mandatory Continuing Legal Education Commission of Alabama for a maximum of 15.75 hours’ credit\, including 1 hour of ethics.  \nRegistration Fee:\n$650- Young Lawyer Member\n$850- Young Lawyer Non-Member (Includes first year of membership dues) \nLocation:\nHugo L. Black United States Courthouse\n1729 5th Ave N\nBirmingham\, AL 35203 \nRegistration fee includes materials\, lunch each day\, and a networking mixer. \nRegistered attendees will receive conference materials via Dropbox.  Please take time to review the materials in advance. \nDiscounted Hotel Room Block Details Coming Soon! \n 
URL:https://adla.org/event/bibb-allen-memorial-trial-academy-3/
ATTACH;FMTTYPE=image/gif:https://adla.org/wp-content/uploads/bham_hugo_black_courthouse.gif
END:VEVENT
BEGIN:VEVENT
DTSTART;TZID=America/Chicago:20260730T170000
DTEND;TZID=America/Chicago:20260730T180000
DTSTAMP:20260422T044804
CREATED:20260421T181803Z
LAST-MODIFIED:20260421T181844Z
UID:10000187-1785430800-1785434400@adla.org
SUMMARY:District 2 Networking Mixer @ Paramount- Downtown Birmingham
DESCRIPTION:You’re invited to Paramount Downtown Birmingham.\nThursday\, July 30th | 5:00-6:00 PM \nAll ADLA members are invited | Free networking event \nKindly RSVP so we can plan accordingly.
URL:https://adla.org/event/district-2-networking-mixer-paramount-downtown-birmingham/
ATTACH;FMTTYPE=image/jpeg:https://adla.org/wp-content/uploads/Paramount.jpg
END:VEVENT
BEGIN:VEVENT
DTSTART;VALUE=DATE:20270617
DTEND;VALUE=DATE:20270621
DTSTAMP:20260422T044804
CREATED:20221108T164713Z
LAST-MODIFIED:20221108T164713Z
UID:10000101-1813190400-1813535999@adla.org
SUMMARY:2027 Annual Meeting- Perdido Beach Resort
DESCRIPTION:ADLA’s 2027 Annual Meeting is set for June 17-20 at Perdido Beach Resort\, located in Orange Beach\, AL. \nCheck back often for updates.
URL:https://adla.org/event/2027-annual-meeting-perdido-beach-resort/
ATTACH;FMTTYPE=image/jpeg:https://adla.org/wp-content/uploads/PBR-Hotel-Jpeg.jpg
END:VEVENT
BEGIN:VEVENT
DTSTART;VALUE=DATE:20280615
DTEND;VALUE=DATE:20280619
DTSTAMP:20260422T044804
CREATED:20250718T142211Z
LAST-MODIFIED:20250718T142530Z
UID:10000160-1844640000-1844985599@adla.org
SUMMARY:2028 Annual Meeting- Perdido Beach Resort
DESCRIPTION:ADLA’s 2028 Annual Meeting is set for June 15-18 at Perdido Beach Resort\, located in Orange Beach\, AL. \nCheck back often for updates.
URL:https://adla.org/event/2028-annual-meeting-perdido-beach-resort/
ATTACH;FMTTYPE=image/jpeg:https://adla.org/wp-content/uploads/PBR-Hotel-Jpeg.jpg
END:VEVENT
BEGIN:VEVENT
DTSTART;VALUE=DATE:20290614
DTEND;VALUE=DATE:20290618
DTSTAMP:20260422T044804
CREATED:20250718T142306Z
LAST-MODIFIED:20250718T142429Z
UID:10000161-1876089600-1876435199@adla.org
SUMMARY:2029 Annual Meeting- Perdido Beach Resort
DESCRIPTION:ADLA’s 2029 Annual Meeting is set for June 14-17 at Perdido Beach Resort\, located in Orange Beach\, AL. \nCheck back often for updates.
URL:https://adla.org/event/2029-annual-meeting-perdido-beach-resort/
ATTACH;FMTTYPE=image/jpeg:https://adla.org/wp-content/uploads/PBR-Hotel-Jpeg.jpg
END:VEVENT
END:VCALENDAR